BEGIN:VCALENDAR
VERSION:2.0
PRODID:-//REP - Relais Parents Enfants - ECPv4.6.18//NONSGML v1.0//EN
CALSCALE:GREGORIAN
METHOD:PUBLISH
X-WR-CALNAME:REP - Relais Parents Enfants
X-ORIGINAL-URL:http://repmc.org
X-WR-CALDESC:Events for REP - Relais Parents Enfants
BEGIN:VEVENT
DTSTART;TZID=Europe/Paris:20250125T093000
DTEND;TZID=Europe/Paris:20250125T103000
DTSTAMP:20260421T153236
CREATED:20241210T095758Z
LAST-MODIFIED:20250505T210225Z
UID:6407-1737797400-1737801000@repmc.org
SUMMARY:CP LE HAVRE+ LEBLOND+1+VASSE+9/30 ok
DESCRIPTION:
URL:http://repmc.org/event/cp-le-havre-leblond1vasse930/
CATEGORIES:CP Le Havre
END:VEVENT
BEGIN:VEVENT
DTSTART;TZID=Europe/Paris:20250125T093000
DTEND;TZID=Europe/Paris:20250125T103000
DTSTAMP:20260421T153236
CREATED:20250116T085908Z
LAST-MODIFIED:20250505T210225Z
UID:6473-1737797400-1737801000@repmc.org
SUMMARY:CD VDR+LEDAIN FABIEN+2+LAPLACE LUCIE+9.45 ok
DESCRIPTION:
URL:http://repmc.org/event/cd-vdrledain-fabien2laplace-lucie9-45/
CATEGORIES:CD Val de Reuil
END:VEVENT
BEGIN:VEVENT
DTSTART;TZID=Europe/Paris:20250125T133000
DTEND;TZID=Europe/Paris:20250125T153000
DTSTAMP:20260421T153236
CREATED:20250107T084940Z
LAST-MODIFIED:20250505T210217Z
UID:6448-1737811800-1737819000@repmc.org
SUMMARY:MA ROUEN+LETTIER JOHNNY+CLARA ET MATHIS+NAGUET ADELINE+13/30 A 15/30 ok
DESCRIPTION:
URL:http://repmc.org/event/ma-rouenlettier-johnnyclara-et-mathisnaguet-adeline1330-a-1530/
CATEGORIES:MA ROUEN
END:VEVENT
END:VCALENDAR