BEGIN:VCALENDAR
VERSION:2.0
PRODID:-//REP - Relais Parents Enfants - ECPv4.6.18//NONSGML v1.0//EN
CALSCALE:GREGORIAN
METHOD:PUBLISH
X-WR-CALNAME:REP - Relais Parents Enfants
X-ORIGINAL-URL:http://repmc.org
X-WR-CALDESC:Events for REP - Relais Parents Enfants
BEGIN:VEVENT
DTSTART;TZID=Europe/Paris:20240821T103000
DTEND;TZID=Europe/Paris:20240821T113000
DTSTAMP:20260420T101433
CREATED:20240731T161547Z
LAST-MODIFIED:20240731T174112Z
UID:6098-1724236200-1724239800@repmc.org
SUMMARY:MA ROUEN+CHESNAIS GWENAELLE+DYCLAN ET YANKA+LECABLE JESSICA EDUC+10/30 ok
DESCRIPTION:
URL:http://repmc.org/event/ma-rouenchesnais-gwenaelledyclan-et-yankalecable-jessica-educ1030/
CATEGORIES:MA ROUEN
END:VEVENT
BEGIN:VEVENT
DTSTART;TZID=Europe/Paris:20240821T133000
DTEND;TZID=Europe/Paris:20240821T143000
DTSTAMP:20260420T101433
CREATED:20240702T074707Z
LAST-MODIFIED:20240711T073311Z
UID:6016-1724247000-1724250600@repmc.org
SUMMARY:CD VDR+MAISONNEUVE JONATHAN+3+ RAYER MARIE CHRISTINE+13/45 ok
DESCRIPTION:
URL:http://repmc.org/event/cd-vdrmaisonneuve-jonathan3-rayer-marie-christine1345-2/
CATEGORIES:CD Val de Reuil
END:VEVENT
BEGIN:VEVENT
DTSTART;TZID=Europe/Paris:20240821T133000
DTEND;TZID=Europe/Paris:20240821T143000
DTSTAMP:20260420T101433
CREATED:20240711T073442Z
LAST-MODIFIED:20240711T073513Z
UID:6037-1724247000-1724250600@repmc.org
SUMMARY:CD VDR+ISMAIN TEDDY+DJAHYLISS+PASCALE M-GUTTIN+13/45 ok
DESCRIPTION:
URL:http://repmc.org/event/cd-vdrismain-teddydjahylisspascale-m-guttin1345-ok/
CATEGORIES:CD Val de Reuil
END:VEVENT
END:VCALENDAR