BEGIN:VCALENDAR
VERSION:2.0
PRODID:-//REP - Relais Parents Enfants - ECPv4.6.18//NONSGML v1.0//EN
CALSCALE:GREGORIAN
METHOD:PUBLISH
X-WR-CALNAME:REP - Relais Parents Enfants
X-ORIGINAL-URL:http://repmc.org
X-WR-CALDESC:Events for REP - Relais Parents Enfants
BEGIN:VEVENT
DTSTART;TZID=Europe/Paris:20240817T093000
DTEND;TZID=Europe/Paris:20240817T103000
DTSTAMP:20260420T161758
CREATED:20240709T092753Z
LAST-MODIFIED:20240711T105717Z
UID:6033-1723887000-1723890600@repmc.org
SUMMARY:CP LE HAVRE+LEBLOND FABRICE+MALLONE+VASSE THIERRY+9/30 OK
DESCRIPTION:
URL:http://repmc.org/event/cp-le-havreleblond-fabricemallonevasse-thierry930-2/
CATEGORIES:CP Le Havre
END:VEVENT
BEGIN:VEVENT
DTSTART;TZID=Europe/Paris:20240817T100000
DTEND;TZID=Europe/Paris:20240817T130000
DTSTAMP:20260420T161758
CREATED:20240527T075703Z
LAST-MODIFIED:20240905T072004Z
UID:5882-1723888800-1723899600@repmc.org
SUMMARY:CHALET EMERGENCES+ BELGACEM+ YACONO CATHERINE+ 10/00 A 13/00 ok
DESCRIPTION:
URL:http://repmc.org/event/chalet-emergences-belgacem-yacono-catherine-1000-a-1300-3/
CATEGORIES:LE CHALET
END:VEVENT
END:VCALENDAR